BEGIN:VCALENDAR
VERSION:2.0
PRODID:-// - ECPv6.3.1//NONSGML v1.0//EN
CALSCALE:GREGORIAN
METHOD:PUBLISH
X-ORIGINAL-URL:https://falconcity.com
X-WR-CALDESC:Events for 
REFRESH-INTERVAL;VALUE=DURATION:PT1H
X-Robots-Tag:noindex
X-PUBLISHED-TTL:PT1H
BEGIN:VTIMEZONE
TZID:UTC
BEGIN:STANDARD
TZOFFSETFROM:+0000
TZOFFSETTO:+0000
TZNAME:UTC
DTSTART:20210101T000000
END:STANDARD
END:VTIMEZONE
BEGIN:VEVENT
DTSTART;TZID=UTC:20211130T160000
DTEND;TZID=UTC:20211130T220000
DTSTAMP:20260423T210315
CREATED:20211118T054041Z
LAST-MODIFIED:20211118T061058Z
UID:16974-1638288000-1638309600@falconcity.com
SUMMARY:50 Years of accomplishment and success
DESCRIPTION:Register Here\n\n\n  \n\n\n\n\n\n\n\n\n\n\n Your Name*\n \n \n Mobile Number*\n \n \n Email Address*\n \n \n Campaign Source\n \n \n Campaign Medium\n \n \n Campaign Name\n \n \n Campaign Term\n \n \n Campaign Content\n \n \n\n ×\n\n\n\n 
URL:https://falconcity.com/event/50-years-of-accomplishment-and-success/
LOCATION:Falconcity of Wonders\, Falconcity of Wonders\, Green Area\, Phase 2\, WR 06\, Dubai\, Dubai\, United Arab Emirates
CATEGORIES:Community Event
END:VEVENT
END:VCALENDAR